BEGIN:VCALENDAR
VERSION:2.0
PRODID:-//Michelle Areyzaga - ECPv6.15.17.1//NONSGML v1.0//EN
CALSCALE:GREGORIAN
METHOD:PUBLISH
X-WR-CALNAME:Michelle Areyzaga
X-ORIGINAL-URL:https://www.michelleareyzaga.com
X-WR-CALDESC:Events for Michelle Areyzaga
REFRESH-INTERVAL;VALUE=DURATION:PT1H
X-Robots-Tag:noindex
X-PUBLISHED-TTL:PT1H
BEGIN:VTIMEZONE
TZID:America/Chicago
BEGIN:DAYLIGHT
TZOFFSETFROM:-0600
TZOFFSETTO:-0500
TZNAME:CDT
DTSTART:20250309T080000
END:DAYLIGHT
BEGIN:STANDARD
TZOFFSETFROM:-0500
TZOFFSETTO:-0600
TZNAME:CST
DTSTART:20251102T070000
END:STANDARD
BEGIN:DAYLIGHT
TZOFFSETFROM:-0600
TZOFFSETTO:-0500
TZNAME:CDT
DTSTART:20260308T080000
END:DAYLIGHT
BEGIN:STANDARD
TZOFFSETFROM:-0500
TZOFFSETTO:-0600
TZNAME:CST
DTSTART:20261101T070000
END:STANDARD
BEGIN:DAYLIGHT
TZOFFSETFROM:-0600
TZOFFSETTO:-0500
TZNAME:CDT
DTSTART:20270314T080000
END:DAYLIGHT
BEGIN:STANDARD
TZOFFSETFROM:-0500
TZOFFSETTO:-0600
TZNAME:CST
DTSTART:20271107T070000
END:STANDARD
END:VTIMEZONE
BEGIN:VEVENT
DTSTART;TZID=America/Chicago:20260320T200000
DTEND;TZID=America/Chicago:20260320T213000
DTSTAMP:20260423T165925
CREATED:20260223T235907Z
LAST-MODIFIED:20260318T010844Z
UID:10000283-1774036800-1774042200@www.michelleareyzaga.com
SUMMARY:North Shore Congregation Israel
DESCRIPTION:Chicago Soprano Michelle Areyzaga and collaborative pianist Dana Brown are thrilled to present their new album\, “Were I With Thee\,” featuring words penned by women and set by American composers\, inspired by the Emily Dickinson poem\, “Were I With Thee.” \nBuy Tickets
URL:https://www.michelleareyzaga.com/event/north-shore-congregation-israel/
LOCATION:Perlman Sanctuary\, 1185 Sheridan Road\, Glencoe\, Illinois\, US
ATTACH;FMTTYPE=image/jpeg:https://www.michelleareyzaga.com/wp-content/uploads/2026/02/were-i-with-thee-featured-1b.jpg
END:VEVENT
END:VCALENDAR