BEGIN:VCALENDAR
VERSION:2.0
PRODID:-//Michelle Areyzaga - ECPv6.15.17.1//NONSGML v1.0//EN
CALSCALE:GREGORIAN
METHOD:PUBLISH
X-ORIGINAL-URL:https://www.michelleareyzaga.com
X-WR-CALDESC:Events for Michelle Areyzaga
REFRESH-INTERVAL;VALUE=DURATION:PT1H
X-Robots-Tag:noindex
X-PUBLISHED-TTL:PT1H
BEGIN:VTIMEZONE
TZID:America/Chicago
BEGIN:DAYLIGHT
TZOFFSETFROM:-0600
TZOFFSETTO:-0500
TZNAME:CDT
DTSTART:20250309T080000
END:DAYLIGHT
BEGIN:STANDARD
TZOFFSETFROM:-0500
TZOFFSETTO:-0600
TZNAME:CST
DTSTART:20251102T070000
END:STANDARD
BEGIN:DAYLIGHT
TZOFFSETFROM:-0600
TZOFFSETTO:-0500
TZNAME:CDT
DTSTART:20260308T080000
END:DAYLIGHT
BEGIN:STANDARD
TZOFFSETFROM:-0500
TZOFFSETTO:-0600
TZNAME:CST
DTSTART:20261101T070000
END:STANDARD
BEGIN:DAYLIGHT
TZOFFSETFROM:-0600
TZOFFSETTO:-0500
TZNAME:CDT
DTSTART:20270314T080000
END:DAYLIGHT
BEGIN:STANDARD
TZOFFSETFROM:-0500
TZOFFSETTO:-0600
TZNAME:CST
DTSTART:20271107T070000
END:STANDARD
END:VTIMEZONE
BEGIN:VEVENT
DTSTART;TZID=America/Chicago:20260520T190000
DTEND;TZID=America/Chicago:20260522T000000
DTSTAMP:20260423T105738
CREATED:20260223T235907Z
LAST-MODIFIED:20260401T224027Z
UID:10000284-1779303600-1779408000@www.michelleareyzaga.com
SUMMARY:True Concord Voices & Orchestra
DESCRIPTION:True Concord Voices and Orchestra. Recording: “Unrecorded Choral Works of William Grant Still”
URL:https://www.michelleareyzaga.com/event/true-concord-voices-orchestra-9/
LOCATION:Camelback Bible Church\, Phoenix\, AZ\, US
ATTACH;FMTTYPE=image/jpeg:https://www.michelleareyzaga.com/wp-content/uploads/2026/02/tcvo.season.prayers13.lincolncenter.photagrapher-1.jpg
END:VEVENT
END:VCALENDAR